BEGIN:VCALENDAR
VERSION:2.0
PRODID:-//Far West Business Network - ECPv6.15.18//NONSGML v1.0//EN
CALSCALE:GREGORIAN
METHOD:PUBLISH
X-ORIGINAL-URL:https://www.farwestbusiness.co.uk
X-WR-CALDESC:Events for Far West Business Network
REFRESH-INTERVAL;VALUE=DURATION:PT1H
X-Robots-Tag:noindex
X-PUBLISHED-TTL:PT1H
BEGIN:VTIMEZONE
TZID:Europe/London
BEGIN:DAYLIGHT
TZOFFSETFROM:+0000
TZOFFSETTO:+0100
TZNAME:BST
DTSTART:20240331T010000
END:DAYLIGHT
BEGIN:STANDARD
TZOFFSETFROM:+0100
TZOFFSETTO:+0000
TZNAME:GMT
DTSTART:20241027T010000
END:STANDARD
BEGIN:DAYLIGHT
TZOFFSETFROM:+0000
TZOFFSETTO:+0100
TZNAME:BST
DTSTART:20250330T010000
END:DAYLIGHT
BEGIN:STANDARD
TZOFFSETFROM:+0100
TZOFFSETTO:+0000
TZNAME:GMT
DTSTART:20251026T010000
END:STANDARD
BEGIN:DAYLIGHT
TZOFFSETFROM:+0000
TZOFFSETTO:+0100
TZNAME:BST
DTSTART:20260329T010000
END:DAYLIGHT
BEGIN:STANDARD
TZOFFSETFROM:+0100
TZOFFSETTO:+0000
TZNAME:GMT
DTSTART:20261025T010000
END:STANDARD
BEGIN:DAYLIGHT
TZOFFSETFROM:+0000
TZOFFSETTO:+0100
TZNAME:BST
DTSTART:20270328T010000
END:DAYLIGHT
BEGIN:STANDARD
TZOFFSETFROM:+0100
TZOFFSETTO:+0000
TZNAME:GMT
DTSTART:20271031T010000
END:STANDARD
END:VTIMEZONE
BEGIN:VEVENT
DTSTART;TZID=Europe/London:20251209T100000
DTEND;TZID=Europe/London:20251209T120000
DTSTAMP:20260422T230045
CREATED:20241213T192045Z
LAST-MODIFIED:20251114T155138Z
UID:551-1765274400-1765281600@www.farwestbusiness.co.uk
SUMMARY:FWBN Meetup December 2025
DESCRIPTION:What\nJoin us for the last Far West Business Network meetup of the year. As we’re approaching the end of the year our topic will be an end of year review – let’s have a look back on 2025 and discuss our wins\, our challenges and what we’ve learnt. \nCost\nThis event is free and open to all businesses in the Far West of Cornwall. We just ask that you buy a coffee or slice of cake (or both!) to support The Phoenix Cafe who are very kindly providing us the space to meet. \nAim\nThe aim is to make this a relaxed event to give the business community a chance to get together and support each other. Please see our Mission Statement for more details. \nCapacity\nWe’ve got space for up to 15 people – please register here so we’ve got an idea of numbers. \nLocation and Parking\nThe Phoenix Cafe is on the site of the old Warrens factory in St Just. There’s limited parking so if you’re coming from outside of St Just you can park at the cafe\, or use the free town car park – it’s just a 5 minute walk. \nAny questions?\nIf you’d like further details please contact Emily at hello@farwestbusiness.co.uk
URL:https://www.farwestbusiness.co.uk/event/fwbn-meetup-december-2025/
LOCATION:The Phoenix Cafe\, Boswedden Road\, St Just\, Cornwall\, TR19 7JP\, United Kingdom
CATEGORIES:Meetups
ATTACH;FMTTYPE=image/jpeg:https://www.farwestbusiness.co.uk/wp-content/uploads/2024/09/group-coffee.jpg
END:VEVENT
BEGIN:VEVENT
DTSTART;TZID=Europe/London:20260113T100000
DTEND;TZID=Europe/London:20260113T120000
DTSTAMP:20260422T230045
CREATED:20251213T104622Z
LAST-MODIFIED:20251213T104622Z
UID:1200-1768298400-1768305600@www.farwestbusiness.co.uk
SUMMARY:FWBN Meetup January 2026
DESCRIPTION:What\nJoin us for the first Far West Business Network meetup of the year. Let’s use this time to talk about our goals for the year and see what we can do to support each other. \nCost\nThis event is free and open to all businesses in the Far West of Cornwall. We just ask that you buy a coffee or slice of cake (or both!) to support The Phoenix Cafe who are very kindly providing us the space to meet. \nAim\nThe aim is to make this a relaxed event to give the business community a chance to get together and support each other. Please see our Mission Statement for more details. \nCapacity\nWe’ve got space for up to 15 people – please register here so we’ve got an idea of numbers. \nLocation and Parking\nThe Phoenix Cafe is on the site of the old Warrens factory in St Just. There’s limited parking so if you’re coming from outside of St Just you can park at the cafe\, or use the free town car park – it’s just a 5 minute walk. \nAny questions?\nIf you’d like further details please contact Emily at hello@farwestbusiness.co.uk
URL:https://www.farwestbusiness.co.uk/event/fwbn-meetup-january-2026/
LOCATION:The Phoenix Cafe\, Boswedden Road\, St Just\, Cornwall\, TR19 7JP\, United Kingdom
CATEGORIES:Meetups
ATTACH;FMTTYPE=image/jpeg:https://www.farwestbusiness.co.uk/wp-content/uploads/2024/09/group-coffee.jpg
END:VEVENT
BEGIN:VEVENT
DTSTART;TZID=Europe/London:20260210T100000
DTEND;TZID=Europe/London:20260210T120000
DTSTAMP:20260422T230045
CREATED:20251213T104826Z
LAST-MODIFIED:20260119T154611Z
UID:1204-1770717600-1770724800@www.farwestbusiness.co.uk
SUMMARY:FWBN Meetup February 2026
DESCRIPTION:What\nJoin us for a couple of hours of informal networking. This time Trudi Crumley of Tatcho will be leading a design surgery – bring along examples of your design and marketing materials and Trudi will gently steer you in the right direction. \nCost\nThis event is free and open to all businesses in the Far West of Cornwall. We just ask that you buy a coffee or slice of cake (or both!) to support The Phoenix Cafe who are very kindly providing us the space to meet. \nAim\nThe aim is to make this a relaxed event to give the business community a chance to get together and support each other. Please see our Mission Statement for more details. \nCapacity\nWe’ve got space for up to 15 people – please register here so we’ve got an idea of numbers. \nLocation and Parking\nThe Phoenix Cafe is on the site of the old Warrens factory in St Just. There’s limited parking so if you’re coming from outside of St Just you can park at the cafe\, or use the free town car park – it’s just a 5 minute walk. \nAny questions?\nIf you’d like further details please contact Emily at hello@farwestbusiness.co.uk
URL:https://www.farwestbusiness.co.uk/event/fwbn-meetup-february-2026/
LOCATION:The Phoenix Cafe\, Boswedden Road\, St Just\, Cornwall\, TR19 7JP\, United Kingdom
CATEGORIES:Meetups
ATTACH;FMTTYPE=image/jpeg:https://www.farwestbusiness.co.uk/wp-content/uploads/2024/09/group-coffee.jpg
END:VEVENT
BEGIN:VEVENT
DTSTART;TZID=Europe/London:20260310T100000
DTEND;TZID=Europe/London:20260310T120000
DTSTAMP:20260422T230045
CREATED:20251213T104906Z
LAST-MODIFIED:20260226T113533Z
UID:1208-1773136800-1773144000@www.farwestbusiness.co.uk
SUMMARY:FWBN Meetup March 2026
DESCRIPTION:What\nFollowing an amazing talk on the 24th February by Sarah Turner of Sarah Turner Therapies with some great tips on how to “Prevent Going Pop”\, we’re going to have a follow-up discussion on work/life balance. For those of you who missed the talk\, we will share the strategies that we learnt from Sarah\, and have a chat about how we all manage to get a balance between work and life (or not). \nCost\nThis event is free and open to all businesses in the Far West of Cornwall. We just ask that you buy a coffee or slice of cake (or both!) to support The Phoenix Cafe who are very kindly providing us the space to meet. \nAim\nThe aim is to make this a relaxed event to give the business community a chance to get together and support each other. Please see our Mission Statement for more details. \nCapacity\nWe’ve got space for up to 15 people – please register here so we’ve got an idea of numbers. \nLocation and Parking\nThe Phoenix Cafe is on the site of the old Warrens factory in St Just. There’s limited parking so if you’re coming from outside of St Just you can park at the cafe\, or use the free town car park – it’s just a 5 minute walk. \nAny questions?\nIf you’d like further details please contact Emily at hello@farwestbusiness.co.uk \n  \nPhotography by West Penwith Photography
URL:https://www.farwestbusiness.co.uk/event/fwbn-meetup-march-2026/
LOCATION:The Phoenix Cafe\, Boswedden Road\, St Just\, Cornwall\, TR19 7JP\, United Kingdom
CATEGORIES:Meetups
ATTACH;FMTTYPE=image/jpeg:https://www.farwestbusiness.co.uk/wp-content/uploads/2025/12/coffee-cups1.jpg
END:VEVENT
BEGIN:VEVENT
DTSTART;TZID=Europe/London:20260414T100000
DTEND;TZID=Europe/London:20260414T120000
DTSTAMP:20260422T230045
CREATED:20251213T104957Z
LAST-MODIFIED:20260330T090825Z
UID:1212-1776160800-1776168000@www.farwestbusiness.co.uk
SUMMARY:FWBN Meetup April 2026
DESCRIPTION:What\nJoin us for a couple of hours of informal networking. This month we’re talking about work/life balance (rescheduled from last month as we had more of a general discussion at the last meeting). Come along and have a chat about how you manage to separate your work and life – we’ll share our tips and see what strategies we all use. \nCost\nThis event is free and open to all businesses in the Far West of Cornwall. We just ask that you buy a coffee or slice of cake (or both!) to support The Phoenix Cafe who are very kindly providing us the space to meet. \nAim\nThe aim is to make this a relaxed event to give the business community a chance to get together and support each other. Please see our Mission Statement for more details. \nCapacity\nWe’ve got space for up to 15 people – please register here so we’ve got an idea of numbers. \nLocation and Parking\nThe Phoenix Cafe is on the site of the old Warrens factory in St Just. There’s limited parking so if you’re coming from outside of St Just you can park at the cafe\, or use the free town car park – it’s just a 5 minute walk. \nAny questions?\nIf you’d like further details please contact Emily at hello@farwestbusiness.co.uk
URL:https://www.farwestbusiness.co.uk/event/fwbn-meetup-april-2026/
LOCATION:The Phoenix Cafe\, Boswedden Road\, St Just\, Cornwall\, TR19 7JP\, United Kingdom
CATEGORIES:Meetups
ATTACH;FMTTYPE=image/jpeg:https://www.farwestbusiness.co.uk/wp-content/uploads/2024/09/group-coffee.jpg
END:VEVENT
BEGIN:VEVENT
DTSTART;TZID=Europe/London:20260512T100000
DTEND;TZID=Europe/London:20260512T120000
DTSTAMP:20260422T230045
CREATED:20251213T105031Z
LAST-MODIFIED:20251213T105031Z
UID:1216-1778580000-1778587200@www.farwestbusiness.co.uk
SUMMARY:FWBN Meetup May 2026
DESCRIPTION:What\nJoin us for a couple of hours of informal networking – topic to be decided. \nCost\nThis event is free and open to all businesses in the Far West of Cornwall. We just ask that you buy a coffee or slice of cake (or both!) to support The Phoenix Cafe who are very kindly providing us the space to meet. \nAim\nThe aim is to make this a relaxed event to give the business community a chance to get together and support each other. Please see our Mission Statement for more details. \nCapacity\nWe’ve got space for up to 15 people – please register here so we’ve got an idea of numbers. \nLocation and Parking\nThe Phoenix Cafe is on the site of the old Warrens factory in St Just. There’s limited parking so if you’re coming from outside of St Just you can park at the cafe\, or use the free town car park – it’s just a 5 minute walk. \nAny questions?\nIf you’d like further details please contact Emily at hello@farwestbusiness.co.uk
URL:https://www.farwestbusiness.co.uk/event/fwbn-meetup-may-2026/
LOCATION:The Phoenix Cafe\, Boswedden Road\, St Just\, Cornwall\, TR19 7JP\, United Kingdom
CATEGORIES:Meetups
ATTACH;FMTTYPE=image/jpeg:https://www.farwestbusiness.co.uk/wp-content/uploads/2024/09/group-coffee.jpg
END:VEVENT
BEGIN:VEVENT
DTSTART;TZID=Europe/London:20260609T100000
DTEND;TZID=Europe/London:20260609T120000
DTSTAMP:20260422T230045
CREATED:20251213T105105Z
LAST-MODIFIED:20251213T105105Z
UID:1220-1780999200-1781006400@www.farwestbusiness.co.uk
SUMMARY:FWBN Meetup June 2026
DESCRIPTION:What\nJoin us for a couple of hours of informal networking – topic to be decided. \nCost\nThis event is free and open to all businesses in the Far West of Cornwall. We just ask that you buy a coffee or slice of cake (or both!) to support The Phoenix Cafe who are very kindly providing us the space to meet. \nAim\nThe aim is to make this a relaxed event to give the business community a chance to get together and support each other. Please see our Mission Statement for more details. \nCapacity\nWe’ve got space for up to 15 people – please register here so we’ve got an idea of numbers. \nLocation and Parking\nThe Phoenix Cafe is on the site of the old Warrens factory in St Just. There’s limited parking so if you’re coming from outside of St Just you can park at the cafe\, or use the free town car park – it’s just a 5 minute walk. \nAny questions?\nIf you’d like further details please contact Emily at hello@farwestbusiness.co.uk
URL:https://www.farwestbusiness.co.uk/event/fwbn-meetup-june-2026/
LOCATION:The Phoenix Cafe\, Boswedden Road\, St Just\, Cornwall\, TR19 7JP\, United Kingdom
CATEGORIES:Meetups
ATTACH;FMTTYPE=image/jpeg:https://www.farwestbusiness.co.uk/wp-content/uploads/2024/09/group-coffee.jpg
END:VEVENT
BEGIN:VEVENT
DTSTART;TZID=Europe/London:20260714T100000
DTEND;TZID=Europe/London:20260714T120000
DTSTAMP:20260422T230045
CREATED:20251213T105138Z
LAST-MODIFIED:20251213T105138Z
UID:1224-1784023200-1784030400@www.farwestbusiness.co.uk
SUMMARY:FWBN Meetup July 2026
DESCRIPTION:What\nJoin us for a couple of hours of informal networking – topic to be decided. \nCost\nThis event is free and open to all businesses in the Far West of Cornwall. We just ask that you buy a coffee or slice of cake (or both!) to support The Phoenix Cafe who are very kindly providing us the space to meet. \nAim\nThe aim is to make this a relaxed event to give the business community a chance to get together and support each other. Please see our Mission Statement for more details. \nCapacity\nWe’ve got space for up to 15 people – please register here so we’ve got an idea of numbers. \nLocation and Parking\nThe Phoenix Cafe is on the site of the old Warrens factory in St Just. There’s limited parking so if you’re coming from outside of St Just you can park at the cafe\, or use the free town car park – it’s just a 5 minute walk. \nAny questions?\nIf you’d like further details please contact Emily at hello@farwestbusiness.co.uk
URL:https://www.farwestbusiness.co.uk/event/fwbn-meetup-july-2026/
LOCATION:The Phoenix Cafe\, Boswedden Road\, St Just\, Cornwall\, TR19 7JP\, United Kingdom
CATEGORIES:Meetups
ATTACH;FMTTYPE=image/jpeg:https://www.farwestbusiness.co.uk/wp-content/uploads/2024/09/group-coffee.jpg
END:VEVENT
BEGIN:VEVENT
DTSTART;TZID=Europe/London:20260811T100000
DTEND;TZID=Europe/London:20260811T120000
DTSTAMP:20260422T230045
CREATED:20251213T105209Z
LAST-MODIFIED:20251213T105209Z
UID:1228-1786442400-1786449600@www.farwestbusiness.co.uk
SUMMARY:FWBN Meetup August 2026
DESCRIPTION:What\nJoin us for a couple of hours of informal networking – topic to be decided. \nCost\nThis event is free and open to all businesses in the Far West of Cornwall. We just ask that you buy a coffee or slice of cake (or both!) to support The Phoenix Cafe who are very kindly providing us the space to meet. \nAim\nThe aim is to make this a relaxed event to give the business community a chance to get together and support each other. Please see our Mission Statement for more details. \nCapacity\nWe’ve got space for up to 15 people – please register here so we’ve got an idea of numbers. \nLocation and Parking\nThe Phoenix Cafe is on the site of the old Warrens factory in St Just. There’s limited parking so if you’re coming from outside of St Just you can park at the cafe\, or use the free town car park – it’s just a 5 minute walk. \nAny questions?\nIf you’d like further details please contact Emily at hello@farwestbusiness.co.uk
URL:https://www.farwestbusiness.co.uk/event/fwbn-meetup-august-2026/
LOCATION:The Phoenix Cafe\, Boswedden Road\, St Just\, Cornwall\, TR19 7JP\, United Kingdom
CATEGORIES:Meetups
ATTACH;FMTTYPE=image/jpeg:https://www.farwestbusiness.co.uk/wp-content/uploads/2024/09/group-coffee.jpg
END:VEVENT
BEGIN:VEVENT
DTSTART;TZID=Europe/London:20260908T100000
DTEND;TZID=Europe/London:20260908T120000
DTSTAMP:20260422T230045
CREATED:20251213T105243Z
LAST-MODIFIED:20251213T105243Z
UID:1232-1788861600-1788868800@www.farwestbusiness.co.uk
SUMMARY:FWBN Meetup September 2026
DESCRIPTION:What\nJoin us for a couple of hours of informal networking – topic to be decided. \nCost\nThis event is free and open to all businesses in the Far West of Cornwall. We just ask that you buy a coffee or slice of cake (or both!) to support The Phoenix Cafe who are very kindly providing us the space to meet. \nAim\nThe aim is to make this a relaxed event to give the business community a chance to get together and support each other. Please see our Mission Statement for more details. \nCapacity\nWe’ve got space for up to 15 people – please register here so we’ve got an idea of numbers. \nLocation and Parking\nThe Phoenix Cafe is on the site of the old Warrens factory in St Just. There’s limited parking so if you’re coming from outside of St Just you can park at the cafe\, or use the free town car park – it’s just a 5 minute walk. \nAny questions?\nIf you’d like further details please contact Emily at hello@farwestbusiness.co.uk
URL:https://www.farwestbusiness.co.uk/event/fwbn-meetup-september-2026/
LOCATION:The Phoenix Cafe\, Boswedden Road\, St Just\, Cornwall\, TR19 7JP\, United Kingdom
CATEGORIES:Meetups
ATTACH;FMTTYPE=image/jpeg:https://www.farwestbusiness.co.uk/wp-content/uploads/2024/09/group-coffee.jpg
END:VEVENT
BEGIN:VEVENT
DTSTART;TZID=Europe/London:20261013T100000
DTEND;TZID=Europe/London:20261013T120000
DTSTAMP:20260422T230045
CREATED:20251213T105319Z
LAST-MODIFIED:20251213T105319Z
UID:1236-1791885600-1791892800@www.farwestbusiness.co.uk
SUMMARY:FWBN Meetup October 2026
DESCRIPTION:What\nJoin us for a couple of hours of informal networking – topic to be decided. \nCost\nThis event is free and open to all businesses in the Far West of Cornwall. We just ask that you buy a coffee or slice of cake (or both!) to support The Phoenix Cafe who are very kindly providing us the space to meet. \nAim\nThe aim is to make this a relaxed event to give the business community a chance to get together and support each other. Please see our Mission Statement for more details. \nCapacity\nWe’ve got space for up to 15 people – please register here so we’ve got an idea of numbers. \nLocation and Parking\nThe Phoenix Cafe is on the site of the old Warrens factory in St Just. There’s limited parking so if you’re coming from outside of St Just you can park at the cafe\, or use the free town car park – it’s just a 5 minute walk. \nAny questions?\nIf you’d like further details please contact Emily at hello@farwestbusiness.co.uk
URL:https://www.farwestbusiness.co.uk/event/fwbn-meetup-october-2026/
LOCATION:The Phoenix Cafe\, Boswedden Road\, St Just\, Cornwall\, TR19 7JP\, United Kingdom
CATEGORIES:Meetups
ATTACH;FMTTYPE=image/jpeg:https://www.farwestbusiness.co.uk/wp-content/uploads/2024/09/group-coffee.jpg
END:VEVENT
BEGIN:VEVENT
DTSTART;TZID=Europe/London:20261110T100000
DTEND;TZID=Europe/London:20261110T120000
DTSTAMP:20260422T230045
CREATED:20251213T105351Z
LAST-MODIFIED:20251213T105351Z
UID:1240-1794304800-1794312000@www.farwestbusiness.co.uk
SUMMARY:FWBN Meetup November 2026
DESCRIPTION:What\nJoin us for a couple of hours of informal networking – topic to be decided. \nCost\nThis event is free and open to all businesses in the Far West of Cornwall. We just ask that you buy a coffee or slice of cake (or both!) to support The Phoenix Cafe who are very kindly providing us the space to meet. \nAim\nThe aim is to make this a relaxed event to give the business community a chance to get together and support each other. Please see our Mission Statement for more details. \nCapacity\nWe’ve got space for up to 15 people – please register here so we’ve got an idea of numbers. \nLocation and Parking\nThe Phoenix Cafe is on the site of the old Warrens factory in St Just. There’s limited parking so if you’re coming from outside of St Just you can park at the cafe\, or use the free town car park – it’s just a 5 minute walk. \nAny questions?\nIf you’d like further details please contact Emily at hello@farwestbusiness.co.uk
URL:https://www.farwestbusiness.co.uk/event/fwbn-meetup-november-2026/
LOCATION:The Phoenix Cafe\, Boswedden Road\, St Just\, Cornwall\, TR19 7JP\, United Kingdom
CATEGORIES:Meetups
ATTACH;FMTTYPE=image/jpeg:https://www.farwestbusiness.co.uk/wp-content/uploads/2024/09/group-coffee.jpg
END:VEVENT
BEGIN:VEVENT
DTSTART;TZID=Europe/London:20261208T100000
DTEND;TZID=Europe/London:20261208T120000
DTSTAMP:20260422T230045
CREATED:20251213T105430Z
LAST-MODIFIED:20251213T105430Z
UID:1244-1796724000-1796731200@www.farwestbusiness.co.uk
SUMMARY:FWBN Meetup December 2026
DESCRIPTION:What\nJoin us for a couple of hours of informal networking – topic to be decided. \nCost\nThis event is free and open to all businesses in the Far West of Cornwall. We just ask that you buy a coffee or slice of cake (or both!) to support The Phoenix Cafe who are very kindly providing us the space to meet. \nAim\nThe aim is to make this a relaxed event to give the business community a chance to get together and support each other. Please see our Mission Statement for more details. \nCapacity\nWe’ve got space for up to 15 people – please register here so we’ve got an idea of numbers. \nLocation and Parking\nThe Phoenix Cafe is on the site of the old Warrens factory in St Just. There’s limited parking so if you’re coming from outside of St Just you can park at the cafe\, or use the free town car park – it’s just a 5 minute walk. \nAny questions?\nIf you’d like further details please contact Emily at hello@farwestbusiness.co.uk
URL:https://www.farwestbusiness.co.uk/event/fwbn-meetup-december-2026/
LOCATION:The Phoenix Cafe\, Boswedden Road\, St Just\, Cornwall\, TR19 7JP\, United Kingdom
CATEGORIES:Meetups
ATTACH;FMTTYPE=image/jpeg:https://www.farwestbusiness.co.uk/wp-content/uploads/2024/09/group-coffee.jpg
END:VEVENT
END:VCALENDAR