BEGIN:VCALENDAR
VERSION:2.0
PRODID:-//Far West Business Network - ECPv6.15.18//NONSGML v1.0//EN
CALSCALE:GREGORIAN
METHOD:PUBLISH
X-WR-CALNAME:Far West Business Network
X-ORIGINAL-URL:https://www.farwestbusiness.co.uk
X-WR-CALDESC:Events for Far West Business Network
REFRESH-INTERVAL;VALUE=DURATION:PT1H
X-Robots-Tag:noindex
X-PUBLISHED-TTL:PT1H
BEGIN:VTIMEZONE
TZID:Europe/London
BEGIN:DAYLIGHT
TZOFFSETFROM:+0000
TZOFFSETTO:+0100
TZNAME:BST
DTSTART:20240331T010000
END:DAYLIGHT
BEGIN:STANDARD
TZOFFSETFROM:+0100
TZOFFSETTO:+0000
TZNAME:GMT
DTSTART:20241027T010000
END:STANDARD
BEGIN:DAYLIGHT
TZOFFSETFROM:+0000
TZOFFSETTO:+0100
TZNAME:BST
DTSTART:20250330T010000
END:DAYLIGHT
BEGIN:STANDARD
TZOFFSETFROM:+0100
TZOFFSETTO:+0000
TZNAME:GMT
DTSTART:20251026T010000
END:STANDARD
BEGIN:DAYLIGHT
TZOFFSETFROM:+0000
TZOFFSETTO:+0100
TZNAME:BST
DTSTART:20260329T010000
END:DAYLIGHT
BEGIN:STANDARD
TZOFFSETFROM:+0100
TZOFFSETTO:+0000
TZNAME:GMT
DTSTART:20261025T010000
END:STANDARD
END:VTIMEZONE
BEGIN:VEVENT
DTSTART;TZID=Europe/London:20250610T100000
DTEND;TZID=Europe/London:20250610T120000
DTSTAMP:20260420T042255
CREATED:20241213T191714Z
LAST-MODIFIED:20250525T144650Z
UID:527-1749549600-1749556800@www.farwestbusiness.co.uk
SUMMARY:FWBN Meetup June 2025
DESCRIPTION:This month we’re going to revisit the purpose of the Far West Business Network. Emily will talk about why she set up the group and what her vision is for the network. This will be followed by a brainstorming session on future topics for the meetings. Come along with ideas about what business topics you would be interested in discussing. \nWe’ve got space for up to 15 people – please register here so we’ve got an idea of numbers. \nThe Phoenix Cafe is on the site of the old Warrens factory in St Just. There’s limited parking so if you’re coming from outside of St Just you can park at the cafe\, or use the free town car park – it’s just a 5 minute walk. \nPlease read our Mission Statement and What to Expect pages to get a feel for what the network is about. If you’d like further details please contact Emily at hello@farwestbusiness.co.uk
URL:https://www.farwestbusiness.co.uk/event/fwbn-meetup-june-2025/
LOCATION:The Phoenix Cafe\, Boswedden Road\, St Just\, Cornwall\, TR19 7JP\, United Kingdom
CATEGORIES:Meetups
ATTACH;FMTTYPE=image/jpeg:https://www.farwestbusiness.co.uk/wp-content/uploads/2024/09/group-coffee.jpg
END:VEVENT
END:VCALENDAR