BEGIN:VCALENDAR
VERSION:2.0
PRODID:-//Far West Business Network - ECPv6.15.18//NONSGML v1.0//EN
CALSCALE:GREGORIAN
METHOD:PUBLISH
X-ORIGINAL-URL:https://www.farwestbusiness.co.uk
X-WR-CALDESC:Events for Far West Business Network
REFRESH-INTERVAL;VALUE=DURATION:PT1H
X-Robots-Tag:noindex
X-PUBLISHED-TTL:PT1H
BEGIN:VTIMEZONE
TZID:Europe/London
BEGIN:DAYLIGHT
TZOFFSETFROM:+0000
TZOFFSETTO:+0100
TZNAME:BST
DTSTART:20230326T010000
END:DAYLIGHT
BEGIN:STANDARD
TZOFFSETFROM:+0100
TZOFFSETTO:+0000
TZNAME:GMT
DTSTART:20231029T010000
END:STANDARD
BEGIN:DAYLIGHT
TZOFFSETFROM:+0000
TZOFFSETTO:+0100
TZNAME:BST
DTSTART:20240331T010000
END:DAYLIGHT
BEGIN:STANDARD
TZOFFSETFROM:+0100
TZOFFSETTO:+0000
TZNAME:GMT
DTSTART:20241027T010000
END:STANDARD
BEGIN:DAYLIGHT
TZOFFSETFROM:+0000
TZOFFSETTO:+0100
TZNAME:BST
DTSTART:20250330T010000
END:DAYLIGHT
BEGIN:STANDARD
TZOFFSETFROM:+0100
TZOFFSETTO:+0000
TZNAME:GMT
DTSTART:20251026T010000
END:STANDARD
END:VTIMEZONE
BEGIN:VEVENT
DTSTART;TZID=Europe/London:20241112T100000
DTEND;TZID=Europe/London:20241112T120000
DTSTAMP:20260422T164009
CREATED:20240930T081938Z
LAST-MODIFIED:20241104T115800Z
UID:459-1731405600-1731412800@www.farwestbusiness.co.uk
SUMMARY:FWBN Meetup November 2024
DESCRIPTION:Super informal networking for people running businesses in the Far West of Cornwall. Come along for a coffee and chat! \nNovember’s Plan\nWe’re trying something new this month! \n\nOur round-the-table introductions will be strictly 2 minutes per person (I’ll be timing you!) so please come prepared with a brief introduction.\nFollowing that\, I will be leading a brainstorming session on what sort of support local businesses need in the area. I’ll look forward to hearing your ideas!\n\nLocation\nJoin us for a couple of hours of informal networking at The Phoenix Café in St Just. This event is free and open to all businesses in the Far West of Cornwall. We just ask that you buy a coffee or slice of cake (or both!) to support The Phoenix who are very kindly providing us the space to meet. \nThe aim is to make this a relaxed event to give the business community a chance to get together and support each other. \nWe’ve got space for up to 15 people – please register here so we’ve got an idea of numbers. \nThe Phoenix Cafe is on the site of the old Warrens factory in St Just. There’s limited parking so if you’re coming from outside of St Just you can park at the cafe\, or use the free town car park – it’s just a 5 minute walk. \nIf you’d like further details please contact Emily at hello@farwestbusiness.co.uk
URL:https://www.farwestbusiness.co.uk/event/fwbn-meetup-november-2024/
LOCATION:The Phoenix Cafe\, Boswedden Road\, St Just\, Cornwall\, TR19 7JP\, United Kingdom
CATEGORIES:Meetups
ATTACH;FMTTYPE=image/jpeg:https://www.farwestbusiness.co.uk/wp-content/uploads/2024/09/group-coffee.jpg
END:VEVENT
END:VCALENDAR