BEGIN:VCALENDAR
VERSION:2.0
PRODID:-//Far West Business Network - ECPv6.15.18//NONSGML v1.0//EN
CALSCALE:GREGORIAN
METHOD:PUBLISH
X-WR-CALNAME:Far West Business Network
X-ORIGINAL-URL:https://www.farwestbusiness.co.uk
X-WR-CALDESC:Events for Far West Business Network
REFRESH-INTERVAL;VALUE=DURATION:PT1H
X-Robots-Tag:noindex
X-PUBLISHED-TTL:PT1H
BEGIN:VTIMEZONE
TZID:Europe/London
BEGIN:DAYLIGHT
TZOFFSETFROM:+0000
TZOFFSETTO:+0100
TZNAME:BST
DTSTART:20240331T010000
END:DAYLIGHT
BEGIN:STANDARD
TZOFFSETFROM:+0100
TZOFFSETTO:+0000
TZNAME:GMT
DTSTART:20241027T010000
END:STANDARD
BEGIN:DAYLIGHT
TZOFFSETFROM:+0000
TZOFFSETTO:+0100
TZNAME:BST
DTSTART:20250330T010000
END:DAYLIGHT
BEGIN:STANDARD
TZOFFSETFROM:+0100
TZOFFSETTO:+0000
TZNAME:GMT
DTSTART:20251026T010000
END:STANDARD
BEGIN:DAYLIGHT
TZOFFSETFROM:+0000
TZOFFSETTO:+0100
TZNAME:BST
DTSTART:20260329T010000
END:DAYLIGHT
BEGIN:STANDARD
TZOFFSETFROM:+0100
TZOFFSETTO:+0000
TZNAME:GMT
DTSTART:20261025T010000
END:STANDARD
END:VTIMEZONE
BEGIN:VEVENT
DTSTART;TZID=Europe/London:20250909T100000
DTEND;TZID=Europe/London:20250909T120000
DTSTAMP:20260419T214020
CREATED:20241213T191857Z
LAST-MODIFIED:20250823T133621Z
UID:539-1757412000-1757419200@www.farwestbusiness.co.uk
SUMMARY:FWBN Meetup September 2025
DESCRIPTION:What\nJoin us for the September meetup of the Far West Business Network. This month we’re going to revisit the topic of marketing\, with a focus on Marketing Plans. \nDo you have a marketing plan for your business or do you feel like you’re being too scattergun in your approach? Let’s have a chat about how we can easily put together a plan to help us focus on our marketing activities and track the results. \nCost\nThis event is free and open to all businesses in the Far West of Cornwall. We just ask that you buy a coffee or slice of cake (or both!) to support The Phoenix Cafe who are very kindly providing us the space to meet. \nAim\nThe aim is to make this a relaxed event to give the business community a chance to get together and support each other. Please see our Mission Statement for more details. \nCapacity\nWe’ve got space for up to 15 people – please register here so we’ve got an idea of numbers. \nLocation and Parking\nThe Phoenix Cafe is on the site of the old Warrens factory in St Just. There’s limited parking so if you’re coming from outside of St Just you can park at the cafe\, or use the free town car park – it’s just a 5 minute walk. \nAny questions?\nIf you’d like further details please contact Emily at hello@farwestbusiness.co.uk
URL:https://www.farwestbusiness.co.uk/event/fwbn-meetup-september-2025/
LOCATION:The Phoenix Cafe\, Boswedden Road\, St Just\, Cornwall\, TR19 7JP\, United Kingdom
CATEGORIES:Meetups
ATTACH;FMTTYPE=image/jpeg:https://www.farwestbusiness.co.uk/wp-content/uploads/2024/09/group-coffee.jpg
END:VEVENT
END:VCALENDAR