BEGIN:VCALENDAR
VERSION:2.0
PRODID:-//Far West Business Network - ECPv6.15.18//NONSGML v1.0//EN
CALSCALE:GREGORIAN
METHOD:PUBLISH
X-WR-CALNAME:Far West Business Network
X-ORIGINAL-URL:https://www.farwestbusiness.co.uk
X-WR-CALDESC:Events for Far West Business Network
REFRESH-INTERVAL;VALUE=DURATION:PT1H
X-Robots-Tag:noindex
X-PUBLISHED-TTL:PT1H
BEGIN:VTIMEZONE
TZID:Europe/London
BEGIN:DAYLIGHT
TZOFFSETFROM:+0000
TZOFFSETTO:+0100
TZNAME:BST
DTSTART:20240331T010000
END:DAYLIGHT
BEGIN:STANDARD
TZOFFSETFROM:+0100
TZOFFSETTO:+0000
TZNAME:GMT
DTSTART:20241027T010000
END:STANDARD
BEGIN:DAYLIGHT
TZOFFSETFROM:+0000
TZOFFSETTO:+0100
TZNAME:BST
DTSTART:20250330T010000
END:DAYLIGHT
BEGIN:STANDARD
TZOFFSETFROM:+0100
TZOFFSETTO:+0000
TZNAME:GMT
DTSTART:20251026T010000
END:STANDARD
BEGIN:DAYLIGHT
TZOFFSETFROM:+0000
TZOFFSETTO:+0100
TZNAME:BST
DTSTART:20260329T010000
END:DAYLIGHT
BEGIN:STANDARD
TZOFFSETFROM:+0100
TZOFFSETTO:+0000
TZNAME:GMT
DTSTART:20261025T010000
END:STANDARD
END:VTIMEZONE
BEGIN:VEVENT
DTSTART;TZID=Europe/London:20250513T100000
DTEND;TZID=Europe/London:20250513T120000
DTSTAMP:20260420T041816
CREATED:20241213T191641Z
LAST-MODIFIED:20250502T161500Z
UID:523-1747130400-1747137600@www.farwestbusiness.co.uk
SUMMARY:FWBN Meetup May 2025
DESCRIPTION:Super informal networking for people running businesses in the Far West of Cornwall. Come along for a coffee and chat. \nJoin us for a couple of hours of informal networking at The Phoenix Café in St Just. This event is free and open to all businesses in the Far West of Cornwall. We just ask that you buy a coffee or slice of cake (or both!) to support The Phoenix who are very kindly providing us the space to meet. \nThe aim is to make this a relaxed event to give the business community a chance to get together and support each other. \n*****\nThis month’s topic is “How to manage feast or famine” (thanks Trudi for the suggestion). \nI don’t know about you\, but there never seems to be the “perfect” amount of work. I’m either run off my feet and panicking about how I’m going to get it all done\, or have very little new work coming in and … um … panicking about that. There’s a theme isn’t there? Yes\, lots of panic. \nSo\, how do we all handle that? Let’s draw on all the experience we’ve got in the group and see if we can come up with some strategies.\n***** \nWe’ve got space for up to 15 people – please register here so we’ve got an idea of numbers. \nThe Phoenix Cafe is on the site of the old Warrens factory in St Just. There’s limited parking so if you’re coming from outside of St Just you can park at the cafe\, or use the free town car park – it’s just a 5 minute walk. \nIf you’d like further details please contact Emily at hello@farwestbusiness.co.uk
URL:https://www.farwestbusiness.co.uk/event/fwbn-meetup-may-2025/
LOCATION:The Phoenix Cafe\, Boswedden Road\, St Just\, Cornwall\, TR19 7JP\, United Kingdom
CATEGORIES:Meetups
ATTACH;FMTTYPE=image/jpeg:https://www.farwestbusiness.co.uk/wp-content/uploads/2024/09/group-coffee.jpg
END:VEVENT
END:VCALENDAR