BEGIN:VCALENDAR
VERSION:2.0
PRODID:-//Far West Business Network - ECPv6.15.18//NONSGML v1.0//EN
CALSCALE:GREGORIAN
METHOD:PUBLISH
X-ORIGINAL-URL:https://www.farwestbusiness.co.uk
X-WR-CALDESC:Events for Far West Business Network
REFRESH-INTERVAL;VALUE=DURATION:PT1H
X-Robots-Tag:noindex
X-PUBLISHED-TTL:PT1H
BEGIN:VTIMEZONE
TZID:Europe/London
BEGIN:DAYLIGHT
TZOFFSETFROM:+0000
TZOFFSETTO:+0100
TZNAME:BST
DTSTART:20240331T010000
END:DAYLIGHT
BEGIN:STANDARD
TZOFFSETFROM:+0100
TZOFFSETTO:+0000
TZNAME:GMT
DTSTART:20241027T010000
END:STANDARD
BEGIN:DAYLIGHT
TZOFFSETFROM:+0000
TZOFFSETTO:+0100
TZNAME:BST
DTSTART:20250330T010000
END:DAYLIGHT
BEGIN:STANDARD
TZOFFSETFROM:+0100
TZOFFSETTO:+0000
TZNAME:GMT
DTSTART:20251026T010000
END:STANDARD
BEGIN:DAYLIGHT
TZOFFSETFROM:+0000
TZOFFSETTO:+0100
TZNAME:BST
DTSTART:20260329T010000
END:DAYLIGHT
BEGIN:STANDARD
TZOFFSETFROM:+0100
TZOFFSETTO:+0000
TZNAME:GMT
DTSTART:20261025T010000
END:STANDARD
END:VTIMEZONE
BEGIN:VEVENT
DTSTART;TZID=Europe/London:20251106T184500
DTEND;TZID=Europe/London:20251106T210000
DTSTAMP:20260425T024301
CREATED:20250924T130800Z
LAST-MODIFIED:20251030T155249Z
UID:1037-1762454700-1762462800@www.farwestbusiness.co.uk
SUMMARY:FWBN Evening Event November 2025
DESCRIPTION:WE’RE FULLY BOOKED!\nThis event is now fully booked. If you’re interested in attending please email us at hello@farwestbusiness.co.uk and we will add you to the list in case we get any cancellations. \n\nPlease Join Us!\nWe are excited to invite you to the first Far West Business Network evening event at the Count House Cafe\, Geevor. Please join us for an evening of informal networking and find out what the FWBN is all about. \nFree Event\nThis event is free and open to all businesses in the Far West of Cornwall. We will be providing a hot drink and cake for all attendees (and you can buy additional refreshments at the cafe). \nCapacity\nWe’ve got space for up to 30 people – please be sure to register here so that we know you’re coming. Once you have booked we will follow up with you to ask if you have any dietary requirements 🙂 \nLocation and Parking\nThe Count House Cafe is the cafe at Geevor Tin Mine. There’s plenty of parking on site. \nAny questions?\nIf you’d like further details please contact Emily at hello@farwestbusiness.co.uk
URL:https://www.farwestbusiness.co.uk/event/fwbn-evening-event-november-2025/
LOCATION:Count House Cafe\, Geevor Tin Mine\, Pendeen\, Cornwall\, TR19 7EW
CATEGORIES:Evening Events
ATTACH;FMTTYPE=image/jpeg:https://www.farwestbusiness.co.uk/wp-content/uploads/2025/09/coffee-cups-colour.jpg
END:VEVENT
END:VCALENDAR